BEGIN:VCALENDAR
VERSION:2.0
PRODID:-//Boston Lykeion Ellinidon - ECPv4.4.2//NONSGML v1.0//EN
CALSCALE:GREGORIAN
METHOD:PUBLISH
X-WR-CALNAME:Boston Lykeion Ellinidon
X-ORIGINAL-URL:https://bostonlykeion.org
X-WR-CALDESC:Events for Boston Lykeion Ellinidon
BEGIN:VEVENT
DTSTART;TZID=America/New_York:20260310T190000
DTEND;TZID=America/New_York:20260310T210000
DTSTAMP:20260425T164912
CREATED:20260306T013754Z
LAST-MODIFIED:20260306T013754Z
UID:2067-1773169200-1773176400@bostonlykeion.org
SUMMARY:Boston Lykeion Ellinidon Women's Circle
DESCRIPTION: \n\n \n\nPlease join us for the next session of the Boston Lykeion Ellinidon Women's Circle.
URL:https://bostonlykeion.org/event/boston-lykeion-ellinidon-womens-circle/
LOCATION:50 Goddard Ave.\, Brookline\, MA\, United States
CATEGORIES:Women's Circle
ORGANIZER;CN="Boston%20Lykeion%20Ellinidon":MAILTO:info@bostonlykeion.org
END:VEVENT
END:VCALENDAR