BEGIN:VCALENDAR
VERSION:2.0
PRODID:-//Boston Lykeion Ellinidon - ECPv4.4.2//NONSGML v1.0//EN
CALSCALE:GREGORIAN
METHOD:PUBLISH
X-WR-CALNAME:Boston Lykeion Ellinidon
X-ORIGINAL-URL:https://bostonlykeion.org
X-WR-CALDESC:Events for Boston Lykeion Ellinidon
BEGIN:VEVENT
DTSTART;TZID=America/New_York:20190714T150000
DTEND;TZID=America/New_York:20190714T173000
DTSTAMP:20260426T012418
CREATED:20190703T023513Z
LAST-MODIFIED:20190712T141726Z
UID:1204-1563116400-1563125400@bostonlykeion.org
SUMMARY:Ipswich Greek Festival
DESCRIPTION:Join us for our two annual performances at the annual Ipswich Greek Festival! We are performing on Sunday\, July 14th\, from 3:00-3:30 p.m. and 5:00-5:30 p.m.
URL:https://bostonlykeion.org/event/ipswich-greek-festival-2/
LOCATION:117 County Rd\, Ipswich\, MA\, 01938\, United States
ATTACH;FMTTYPE=image/jpeg:/wp-content/uploads/2019/07/GR-FESTIVAL-FLYER-2019_8.5x11.jpg
END:VEVENT
END:VCALENDAR